Workbook

Sheet Kosztorys ofertowy
B1: KOSZTORYS OFERTOWY
B3: NAZWA INWESTYCJI: | K3: Remont lokalu mieszkalnego branża budowlana
B6: ADRES INWESTYCJI: | K6: ul. De Gauella 1A m 10 Gdańsk
B9: NAZWA INWESTORA: | K9: Gdańskie Nieruchomości Samorządowy Zakład Budżetowy
B12: ADRES INWESTORA: | K12: ul. Partyzantów 74, 80-254
B15: SPORZĄDZIŁ KALKULACJE
B19: SPRAWDZIŁ PRZEDMIAR:
L20: Inspektor nadzoru inwestorskiego
B23: DATA OPRACOWANIA:
B27: Stawka roboczogodziny:
B30: NARZUTY:
B31: Koszty pośrednie [Kp]
B32: Zysk [Z]
B33: VAT[V]
B35: WARTOŚĆ KOSZTORYSOWA ROBÓT BEZ PODATKU VAT:
B36: PODATEK VAT:
B37: OGÓŁEM WARTOŚĆ KOSZTORYSOWA ROBÓT:
B38: SŁOWNIE:
B40: WYKONAWCA: | S40: INWESTOR:
B44: Data opracowania | S44: Data zatwierdzenia

Sheet Oferta
A1: Lp. | B1: Podstawa | C1: Nr spec. technicz. | D1: Opis robót | E1: Jednostka | F1: Obmiar | G1: Cena jedn. | H1: Wartość
A2: 1 | B2: 2 | C2: 3 | D2: 4 | E2: 5 | F2: 6 | G2: 7 | H2: 8
A3: 1 | D3: Roboty rozbiórkowe
A4: 1 | B4: KNR-W 4-01 0353-04 | D4: Wykucie z muru ościeżnic drewnianych o powierzchni do 2 m2 - demontaż drzwi zewnętrznych z ościeżnicami | E4: szt. | F4: 1 | H4: =ROUND(F4*G4,2) -> 0
A5: 2 | B5: KNR-W 4-01 0353-04 | D5: Wykucie z muru ościeżnic drewnianych o powierzchni do 2 m2 - demontaż drzwi wewnętrzne z ościeżnicami | E5: szt. | F5: 3 | H5: =ROUND(F5*G5,2) -> 0
A6: 3 | B6: KNR-W 2-02 1030-02_x000D_ analogia | D6: Szafki kuchenne stojące jednodrzwiowe - demontaż zabudowy meblowej z łazienki i korytarza | E6: m2 | F6: 4.15 | H6: =ROUND(F6*G6,2) -> 0
A7: 4 | B7: KNR-W 4-01 0353-05 | D7: Wykucie z muru ościeżnic drewnianych o powierzchni ponad 2 m2 - Demontaż stolarki okiennej drewnianej | E7: m2 | F7: 8.066 | H7: =ROUND(F7*G7,2) -> 0
A8: 5 | B8: KNR-W 4-01 0353-12 | D8: Wykucie z muru podokienników - parapet wewnętrzny szerokości 25 cm | E8: m | F8: 3.4 | H8: =ROUND(F8*G8,2) -> 0
A9: 6 | B9: KNR-W 4-01 0353-11 | D9: Wykucie z muru podokienników drewnianych, stalowych - parapet zewnętrzny z blachy ocynkowanej szerokość 34 cm | E9: m | F9: 3.4 | H9: =ROUND(F9*G9,2) -> 0
A10: 7 | B10: KNR-W 4-01 0440-06_x000D_ analogia | D10: Rozebranie kasetonów styropianowych z sufitu | E10: m2 | F10: 20.1 | H10: =ROUND(F10*G10,2) -> 0
A11: 8 | B11: KNR-W 4-01 0817-05_x000D_ analogia | D11: Usunięcie ozdobnych listew na styku ściany z sufitem | E11: m | F11: 19.38 | H11: =ROUND(F11*G11,2) -> 0
A12: 9 | B12: KNR-W 4-01 0821-08 | D12: Rozebranie okładziny ściennej z płytek | E12: m2 | F12: 15.34 | H12: =ROUND(F12*G12,2) -> 0
A13: 10 | B13: KNR-W 4-01 0713-02 | D13: Usunięcie starych powłok malarskich na sufitach | E13: m2 | F13: 33.53 | H13: =ROUND(F13*G13,2) -> 0
A14: 11 | B14: KNR-W 4-01 0713-01 | D14: Usunięcie starych powłok malarskich na ścianach | E14: m2 | F14: 85.64 | H14: =ROUND(F14*G14,2) -> 0
A15: 12 | B15: KNR-W 4-01 0701-11 | D15: Odbicie tynków wewnętrznych z zaprawy cementowo-wapiennej na stropach płaskich, belkach, biegach i spocznikach schodów. o powierzchni odbicia ponad 5 m2 - usunięcie luźnych powłok tynkarskich na sufitach | E15: m2 | F15: 33.53 | H15: =ROUND(F15*G15,2) -> 0
... A21: 18 | B21: KNR 4-04 0105-01 | D21: Rozebranie ścianek pełnych z cegły o grubości 1/4 cegły na zaprawie cementowo-wapiennej | E21: m2 | F21: 5.1 | H21: =ROUND(F21*G21,2) -> 0
A22: 19 | D22: Wywóz i utylizacja z kosztami składowania na legalnym składowisku odpadów z rozbiórek i demontaży | E22: m3 | F22: 7.4 | H22: =ROUND(F22*G22,2) -> 0
D23: RAZEM 1 Roboty rozbiórkowe | H23: =SUM(H4:H22) -> 0
A24: 2 | D24: Montaż stolarki okiennej i drzwiowej
A25: 20 | B25: KNR-W 2-02 1027-02 | D25: Drzwi zewnętrzne płycinowe pełne jednoskrzydłowe bez naświetli o powierzchni ponad 1.5 m2 z izolacją termiczną_x000D_ drzwi zewnętrzne klasa antywłamaniowa RC3 z wizjerem, otwierane do środka | E25: m2 | F25: 1.89 | H25: =ROUND(F25*G25,2) -> 0
A26: 21 | B26: KNR 0-19 1023-10_x000D_ analogia | D26: Montaż okien rozwieranych i uchylno-rozwieranych trzyszybowych z PCV z obróbką obsadzenia o pow. do 2.5 m2 z nawiewnikami okno o współczynniku przenikania ciepła zgodnym z obowiązującymi przepisami - pokój: okno 1,7x1,54 polączone z drzwiami balkonowymi 0,88x2,5. Zachowany obecny podział | E26: m2 | F26: 7.44 | H26: =ROUND(F26*G26,2) -> 0
A27: 22 | B27: KNR-W 2-02 1218-04 | D27: Podokienniki, półki nadgrzejnikowe - parapet wewnętrzny z MDF dł. 1,64m | E27: szt. | F27: 2 | H27: =ROUND(F27*G27,2) -> 0
A28: 23 | B28: KNR 19-01 0538-07 | D28: Wykonanie i montaż podokienników o szer. 25-50 cm z blachy cynkowej szerokości 35cm | E28: m2 | F28: 1.148 | H28: =ROUND(F28*G28,2) -> 0
A29: 24 | B29: KNR-W 2-02 1022-01 | D29: Skrzydła drzwiowe płytowe wewnętrzne pełne jednoskrzydłowe fabrycznie wykończone - 2x drzwi pokojowe 80 cm i jedne łazienkowe 70 cm | E29: m2 | F29: 5.46 | H29: =ROUND(F29*G29,2) -> 0
A30: 25 | B30: KNR 13-12 0902-07 | D30: Ościeżnice regulowane drzwi wewnętrznych | E30: m2 | F30: 5.46 | H30: =ROUND(F30*G30,2) -> 0
A31: 26 | B31: KNR AT-23 0218-01 | D31: Listwy aluminiowe w progach drzwiowych | E31: m | F31: 2.3 | H31: =ROUND(F31*G31,2) -> 0
D32: RAZEM 2 Montaż stolarki okiennej i drzwiowej | H32: =SUM(H25:H31) -> 0
A33: 3 | D33: Ściany i sufity
A34: 27 | B34: KNR AT-52 0303-01 0303-05 | D34: Sufit podwieszany z płyt gipsowo-kartonowych na konstrukcji jednopoziomowej z pokryciem 1x 12,5 mm z warstwą izolacji gr. 5cm | E34: m2 | F34: 24.6 | H34: =ROUND(F34*G34,2) -> 0
A35: 28 | B35: KNR AT-52 0303-01 0303-05 | D35: Sufit podwieszany z płyt gipsowo-kartonowych na konstrukcji jednopoziomowej z pokryciem 1x 12,5 mm z warstwą izolacji gr. 5cm - płyta wodoodporna | E35: m2 | F35: 8.93 | H35: =ROUND(F35*G35,2) -> 0
A36: 29 | B36: KNR-W 2-02 2003-05_x000D_ analogia | D36: Ścianki działowe GR z płyt gipsowo-kartonowych na rusztach metalowych pojedynczych z pokryciem obustronnym dwuwarstwowo 75-02 - Ścianki działowe na stelażu stalowym grubości 7,5 cm z połyty g-k wodoodpornej wzmocnionej jednostronnie płytą OSB grubości 18mm z wygłuszeniem wełną | E36: m2 | F36: 5.1 | H36: =ROUND(F36*G36,2) -> 0
A37: 30 | B37: KNR-W 2-02 2004-02_x000D_ analogia | D37: Obudowa słupów płytami gipsowo-kartonowymi na rusztach metalowych pojedynczych jednowarstwowo 75-01 - obudowa podejść wod-kan i pionów płytą g-k wodoodporną na stelażu | E37: m2 | F37: 2.42 | H37: =ROUND(F37*G37,2) -> 0
A38: 31 | B38: NNRNKB 202 1134-01 | D38: (z.VII) Gruntowanie podłoży - powierzchnie poziome | E38: m2 | F38: 33.53 | H38: =ROUND(F38*G38,2) -> 0
A39: 32 | B39: KNR-W 2-02 2011-04 | D39: Tynki (gładzie) jednowarstwowe wewnętrzne grubości 3 mm z gipsu szpachlowego wykonywane ręcznie na stropach na podłożu z tynku - szpachlowanie sufitów z wklejeniem fizeliny na złączach płyt g-k | E39: m2 | F39: 33.53 | H39: =ROUND(F39*G39,2) -> 0
A40: 33 | B40: KNR-W 2-02 1510-03 | D40: Dwukrotne malowanie farbami emulsyjnymi powierzchni wewnętrznych - podłoży gipsowych z gruntowaniem - sufit | E40: m2 | F40: 33.53 | H40: =ROUND(F40*G40,2) -> 0
A41: 34 | B41: KNR-W 4-01 0304-02 | D41: Uzupełnienie ścian lub zamurowanie otworów w ścianach na zaprawie cementowo-wapiennej bloczkami z betonu komórkowego gr. 6 cm - zamurowanie otworu po doświetlaczu | E41: m3 | F41: 0.63 | H41: =ROUND(F41*G41,2) -> 0
A42: 35 | B42: NNRNKB 202 1134-02 | D42: (z.VII) Gruntowanie podłoży preparatami - powierzchnie pionowe | E42: m2 | F42: 44.08 | H42: =ROUND(F42*G42,2) -> 0
A43: 36 | B43: KNR-W 2-02 0802-02 | D43: Tynki wewnętrzne zwykłe kat. III wykonywane ręcznie z transportem mechanicznym na ścianach i słupach | E43: m2 | F43: 44.08 | H43: =ROUND(F43*G43,2) -> 0
A44: 37 | B44: KNR-W 2-02 2003-07_x000D_ analogia | D44: Ścianki działowe GR z płyt gipsowo-kartonowych na rusztach metalowych pojedynczych z pokryciem jednostronnym jednowarstwowo 50-01_x000D_ Przedścianka maskująca instalacje wod-kan w łazience z płyt wodoodpornych na stelażu stalowym5 | E44: m2 | F44: 5.1 | H44: =ROUND(F44*G44,2) -> 0
A45: 38 | B45: NNRNKB 202 1134-02 | D45: (z.VII) Gruntowanie podłoży preparatami - powierzchnie pionowe | E45: m2 | F45: 110.45 | H45: =ROUND(F45*G45,2) -> 0
... A53: 46 | B53: KNR-W 2-02 0840-06 | D53: Licowanie ścian płytkami z kamieni sztucznych na zaprawie klejowej i przygotowaniem podłoża | E53: m2 | F53: 12.36 | H53: =ROUND(F53*G53,2) -> 0
D54: RAZEM 3 Ściany i sufity | H54: =SUM(H34:H53) -> 0
A55: 4 | D55: Podłogi
A56: 47 | B56: ZKNR C-2 0605-02_x000D_ analogia | D56: Wykonywanie posadzek samopoziomujących i rozlewnych na przygotowanym podłożu o gr. 2-5 mm - wylewka gr. 5mm | E56: m2 | F56: 33.53 | H56: =ROUND(F56*G56,2) -> 0
A57: 48 | B57: KNR-W 2-02 0606-01_x000D_ analogia | D57: Izolacje przeciwwilgociowe i przeciwwodne z folii polietylenowej - poziome podposadzkowe - folia polietylenowa pod panele | E57: m2 | F57: 20.1 | H57: =ROUND(F57*G57,2) -> 0
A58: 49 | B58: KNR-W 4-01 0819-03 | D58: Podkłady pod panele podłogowe | E58: m2 | F58: 20.1 | H58: =ROUND(F58*G58,2) -> 0
A59: 50 | B59: NNRNKB 202 1136-01 | D59: (z.VIII) Posadzki z paneli podłogowych wraz z listwami przypodłogowymi - panele podłogowe AC4 | E59: m2 | F59: 20.1 | H59: =ROUND(F59*G59,2) -> 0
A60: 51 | B60: KNR 9-13 0302-01 | D60: Wykonanie podkładu pod posadzki - gruntowanie powierzchni emulsją | E60: m2 | F60: 13.43 | H60: =ROUND(F60*G60,2) -> 0
A61: 52 | B61: KNR 2-02 1118-09 | D61: Posadzki płytkowe z kamieni sztucznych; płytki 30x30 cm układane na klej metodą kombinowaną | E61: m2 | F61: 13.43 | H61: =ROUND(F61*G61,2) -> 0
A62: 53 | B62: KNR 2-02 1120-06 | D62: Cokoliki płytkowe z kamieni sztucznych z płytek 30x30 cm - cokolik 10 cm układane na klej z przecinaniem płytek metodą kombinowaną | E62: m | F62: 19.52 | H62: =ROUND(F62*G62,2) -> 0
D63: RAZEM 4 Podłogi | H63: =SUM(H56:H62) -> 0
D64: RAZEM kosztorys | H64: =H23+H32+H54+H63 -> 0

Sheet Tabela_elementów_scalonych
A1: Lp. | B1: Nazwa elementu | C1: Wartość netto | D1: Wartość VAT | E1: Wartość brutto | F1: Ilość jedn. techn-ek. | G1: Jedn. techniczno-ekonom. | H1: Cena jedn. techn-ekonom.
A2: 1 | B2: 2 | C2: 3 | D2: 4 | E2: 5 | F2: 6 | G2: 7 | H2: 8
A3: 1 | B3: Roboty rozbiórkowe | C3: =Oferta!H23 -> 0
A4: 2 | B4: Montaż stolarki okiennej i drzwiowej | C4: =Oferta!H32 -> 0
A5: 3 | B5: Ściany i sufity | C5: =Oferta!H54 -> 0
A6: 4 | B6: Podłogi | C6: =Oferta!H63 -> 0
B7: RAZEM kosztorys | C7: =Oferta!H64 -> 0 | D7: =ROUND(C7*8%,2) -> 0 | E7: =C7+D7 -> 0
